BEGIN:VCALENDAR
VERSION:2.0
PRODID:-//ChamberMaster//Event Calendar 2.0//EN
METHOD:PUBLISH
X-PUBLISHED-TTL:P3D
REFRESH-INTERVAL:P3D
CALSCALE:GREGORIAN
BEGIN:VEVENT
DTSTART:20110414T133000Z
DTEND:20110414T171500Z
X-MICROSOFT-CDO-ALLDAYEVENT:FALSE
SUMMARY:UMHB Social Work Program
DESCRIPTION:The University of Mary Hardin-Baylor social work department will host a workshop for social workers as an opportunity to learn about "Life Endings and Ethics" with a lecture presented by Helen Harris.
X-ALT-DESC;FMTTYPE=text/html:The University of Mary Hardin-Baylor social work department will host a workshop for social workers as an opportunity to learn about "Life Endings and Ethics" with a lecture presented by Helen Harris. 
LOCATION:The workshop will be held in the Lord Conference Center in Parker Academic Center on campus .
UID:e.300.5312
SEQUENCE:3
DTSTAMP:20260425T182900Z
URL:http://beltonchamber.chambermaster.com/events/details/umhb-social-work-program-04-14-2011-5312
END:VEVENT

END:VCALENDAR
